
BEGIN:VCALENDAR
VERSION:2.0
PRODID:-//Etkinlikvarmi//Takvime Ekle//TR
BEGIN:VEVENT
UID:69e4d93b734e6@etkinlikvarmi.com
DTSTAMP:20260419T133139Z
DTSTART:20260426T150000
DTEND:20260426T170000
SUMMARY:Hişt, Hişt!
LOCATION:İş Sanat İş Kuleleri Salonu, İstanbul
DESCRIPTION:Hişt, Hişt! etkinliği İstanbul şehrinde İş Sanat İş Kuleleri Salonu mekanında.
END:VEVENT
END:VCALENDAR
