
BEGIN:VCALENDAR
VERSION:2.0
PRODID:-//Etkinlikvarmi//Takvime Ekle//TR
BEGIN:VEVENT
UID:69e4c4d77dace@etkinlikvarmi.com
DTSTAMP:20260419T120439Z
DTSTART:20260425T110000
DTEND:20260425T130000
SUMMARY:Labubu Define Peşinde
LOCATION:Hilltown Seyirlik Sahne , İstanbul
DESCRIPTION:Labubu Define Peşinde etkinliği İstanbul şehrinde Hilltown Seyirlik Sahne  mekanında.
END:VEVENT
END:VCALENDAR
