
BEGIN:VCALENDAR
VERSION:2.0
PRODID:-//Etkinlikvarmi//Takvime Ekle//TR
BEGIN:VEVENT
UID:69e89c74c7da4@etkinlikvarmi.com
DTSTAMP:20260422T100124Z
DTSTART:20260509T203000
DTEND:20260509T223000
SUMMARY:Yeraltından Notlar
LOCATION:Hilltown Seyirlik Sahne , İstanbul
DESCRIPTION:Yeraltından Notlar etkinliği İstanbul şehrinde Hilltown Seyirlik Sahne  mekanında.
END:VEVENT
END:VCALENDAR
