
BEGIN:VCALENDAR
VERSION:2.0
PRODID:-//Etkinlikvarmi//Takvime Ekle//TR
BEGIN:VEVENT
UID:69e4d931a7b0b@etkinlikvarmi.com
DTSTAMP:20260419T133129Z
DTSTART:20260509T110000
DTEND:20260509T130000
SUMMARY:Çiftlik Macerası
LOCATION:Hilltown Seyirlik Sahne , İstanbul
DESCRIPTION:Çiftlik Macerası etkinliği İstanbul şehrinde Hilltown Seyirlik Sahne  mekanında.
END:VEVENT
END:VCALENDAR
