
BEGIN:VCALENDAR
VERSION:2.0
PRODID:-//Etkinlikvarmi//Takvime Ekle//TR
BEGIN:VEVENT
UID:69e4d6687a7a4@etkinlikvarmi.com
DTSTAMP:20260419T131936Z
DTSTART:20260502T110000
DTEND:20260502T130000
SUMMARY:Mini Mini Bir Kuş Müzikali
LOCATION:Hilltown Seyirlik Sahne , İstanbul
DESCRIPTION:Mini Mini Bir Kuş Müzikali etkinliği İstanbul şehrinde Hilltown Seyirlik Sahne  mekanında.
END:VEVENT
END:VCALENDAR
