
BEGIN:VCALENDAR
VERSION:2.0
PRODID:-//Etkinlikvarmi//Takvime Ekle//TR
BEGIN:VEVENT
UID:69e4c4d77dacd@etkinlikvarmi.com
DTSTAMP:20260419T120439Z
DTSTART:20260510T110000
DTEND:20260510T130000
SUMMARY:Ceviz Adam Müzikali
LOCATION:Hilltown Seyirlik Sahne , İstanbul
DESCRIPTION:Ceviz Adam Müzikali etkinliği İstanbul şehrinde Hilltown Seyirlik Sahne  mekanında.
END:VEVENT
END:VCALENDAR
