
BEGIN:VCALENDAR
VERSION:2.0
PRODID:-//Etkinlikvarmi//Takvime Ekle//TR
BEGIN:VEVENT
UID:69e4daf82eec9@etkinlikvarmi.com
DTSTAMP:20260419T133904Z
DTSTART:20260426T130000
DTEND:20260426T150000
SUMMARY:Timecraft Çocuk Tiyatro Oyunu
LOCATION:Kadıköy Eğitim Sahnesi , İstanbul
DESCRIPTION:Timecraft Çocuk Tiyatro Oyunu etkinliği İstanbul şehrinde Kadıköy Eğitim Sahnesi  mekanında.
END:VEVENT
END:VCALENDAR
