
BEGIN:VCALENDAR
VERSION:2.0
PRODID:-//Etkinlikvarmi//Takvime Ekle//TR
BEGIN:VEVENT
UID:69e4daf8003b5@etkinlikvarmi.com
DTSTAMP:20260419T133904Z
DTSTART:20260422T210000
DTEND:20260422T230000
SUMMARY:Nikbinler
LOCATION:Blind İstanbul, İstanbul
DESCRIPTION:Nikbinler etkinliği İstanbul şehrinde Blind İstanbul mekanında.
END:VEVENT
END:VCALENDAR
