
BEGIN:VCALENDAR
VERSION:2.0
PRODID:-//Etkinlikvarmi//Takvime Ekle//TR
BEGIN:VEVENT
UID:69e4c4d1287e5@etkinlikvarmi.com
DTSTAMP:20260419T120433Z
DTSTART:20260419T200000
DTEND:20260419T220000
SUMMARY:Rock n Pop
LOCATION:IF Performance Hall Tepe Prime, Ankara
DESCRIPTION:Rock n Pop etkinliği Ankara şehrinde IF Performance Hall Tepe Prime mekanında.
END:VEVENT
END:VCALENDAR
