
BEGIN:VCALENDAR
VERSION:2.0
PRODID:-//Etkinlikvarmi//Takvime Ekle//TR
BEGIN:VEVENT
UID:69e4daf7f31ac@etkinlikvarmi.com
DTSTAMP:20260419T133903Z
DTSTART:20260420T193000
DTEND:20260420T213000
SUMMARY:Garanti BBVA Genç Konserleri: Black Country, New Road
LOCATION:IF Performance Hall Beşiktaş, İstanbul
DESCRIPTION:Garanti BBVA Genç Konserleri: Black Country, New Road etkinliği İstanbul şehrinde IF Performance Hall Beşiktaş mekanında.
END:VEVENT
END:VCALENDAR
