
BEGIN:VCALENDAR
VERSION:2.0
PRODID:-//Etkinlikvarmi//Takvime Ekle//TR
BEGIN:VEVENT
UID:69e4daf841dcd@etkinlikvarmi.com
DTSTAMP:20260419T133904Z
DTSTART:20260419T214500
DTEND:20260419T234500
SUMMARY:Porçay
LOCATION:Holly Stone Antalya, Antalya
DESCRIPTION:Porçay etkinliği Antalya şehrinde Holly Stone Antalya mekanında.
END:VEVENT
END:VCALENDAR
