
BEGIN:VCALENDAR
VERSION:2.0
PRODID:-//Etkinlikvarmi//Takvime Ekle//TR
BEGIN:VEVENT
UID:69e4db2668fbd@etkinlikvarmi.com
DTSTAMP:20260419T133950Z
DTSTART:20260419T213000
DTEND:20260419T233000
SUMMARY:Arctic Monkeys Tribute
LOCATION:IF Performance Hall, Ankara
DESCRIPTION:Arctic Monkeys Tribute etkinliği Ankara şehrinde IF Performance Hall mekanında.
END:VEVENT
END:VCALENDAR
