
BEGIN:VCALENDAR
VERSION:2.0
PRODID:-//Etkinlikvarmi//Takvime Ekle//TR
BEGIN:VEVENT
UID:69e4db265f722@etkinlikvarmi.com
DTSTAMP:20260419T133950Z
DTSTART:20260419T210000
DTEND:20260419T230000
SUMMARY:Ebru Gündeş - Beraber Söylüyoruz
LOCATION:Volkswagen Arena, İstanbul
DESCRIPTION:Ebru Gündeş - Beraber Söylüyoruz etkinliği İstanbul şehrinde Volkswagen Arena mekanında.
END:VEVENT
END:VCALENDAR
