
BEGIN:VCALENDAR
VERSION:2.0
PRODID:-//Etkinlikvarmi//Takvime Ekle//TR
BEGIN:VEVENT
UID:69e4daf7f2a51@etkinlikvarmi.com
DTSTAMP:20260419T133903Z
DTSTART:20260419T203000
DTEND:20260419T223000
SUMMARY:%100 Müzik Sunar: Deadletter
LOCATION:Blind İstanbul, İstanbul
DESCRIPTION:%100 Müzik Sunar: Deadletter etkinliği İstanbul şehrinde Blind İstanbul mekanında.
END:VEVENT
END:VCALENDAR
