
BEGIN:VCALENDAR
VERSION:2.0
PRODID:-//Etkinlikvarmi//Takvime Ekle//TR
BEGIN:VEVENT
UID:69e4daf7f3e04@etkinlikvarmi.com
DTSTAMP:20260419T133903Z
DTSTART:20260421T203000
DTEND:20260421T223000
SUMMARY:Evdeki Sesler - Buray
LOCATION:İş Sanat İş Kuleleri Salonu, İstanbul
DESCRIPTION:Evdeki Sesler - Buray etkinliği İstanbul şehrinde İş Sanat İş Kuleleri Salonu mekanında.
END:VEVENT
END:VCALENDAR
