
BEGIN:VCALENDAR
VERSION:2.0
PRODID:-//Etkinlikvarmi//Takvime Ekle//TR
BEGIN:VEVENT
UID:69e89e2d6ce03@etkinlikvarmi.com
DTSTAMP:20260422T100845Z
DTSTART:20260509T200000
DTEND:20260509T220000
SUMMARY:Kahvede Şenlik Var
LOCATION:Şişli Tiyatrosu, İstanbul
DESCRIPTION:Kahvede Şenlik Var etkinliği İstanbul şehrinde Şişli Tiyatrosu mekanında.
END:VEVENT
END:VCALENDAR
