
BEGIN:VCALENDAR
VERSION:2.0
PRODID:-//Etkinlikvarmi//Takvime Ekle//TR
BEGIN:VEVENT
UID:69e4db6826dea@etkinlikvarmi.com
DTSTAMP:20260419T134056Z
DTSTART:20260422T220000
DTEND:20260423T000000
SUMMARY:Kahraman Deniz
LOCATION:Hayal Kahvesi Aqua Florya , İstanbul
DESCRIPTION:Kahraman Deniz etkinliği İstanbul şehrinde Hayal Kahvesi Aqua Florya  mekanında.
END:VEVENT
END:VCALENDAR
