
BEGIN:VCALENDAR
VERSION:2.0
PRODID:-//Etkinlikvarmi//Takvime Ekle//TR
BEGIN:VEVENT
UID:69e4db265e94e@etkinlikvarmi.com
DTSTAMP:20260419T133950Z
DTSTART:20260422T220000
DTEND:20260423T000000
SUMMARY:The Away Days
LOCATION:Skaff PSM Alsancak, İstanbul
DESCRIPTION:The Away Days etkinliği İstanbul şehrinde Skaff PSM Alsancak mekanında.
END:VEVENT
END:VCALENDAR
