
BEGIN:VCALENDAR
VERSION:2.0
PRODID:-//Etkinlikvarmi//Takvime Ekle//TR
BEGIN:VEVENT
UID:69e4db6827a8f@etkinlikvarmi.com
DTSTAMP:20260419T134056Z
DTSTART:20260422T220000
DTEND:20260423T000000
SUMMARY:Batu Akdeniz
LOCATION:6:45 KK Ankara, Ankara
DESCRIPTION:Batu Akdeniz etkinliği Ankara şehrinde 6:45 KK Ankara mekanında.
END:VEVENT
END:VCALENDAR
