
BEGIN:VCALENDAR
VERSION:2.0
PRODID:-//Etkinlikvarmi//Takvime Ekle//TR
BEGIN:VEVENT
UID:69e4db74ef91e@etkinlikvarmi.com
DTSTAMP:20260419T134108Z
DTSTART:20260422T210000
DTEND:20260422T230000
SUMMARY:Nirvana Unplugged Tribute by Direc-t
LOCATION:Babylon, İstanbul
DESCRIPTION:Nirvana Unplugged Tribute by Direc-t etkinliği İstanbul şehrinde Babylon mekanında.
END:VEVENT
END:VCALENDAR
