
BEGIN:VCALENDAR
VERSION:2.0
PRODID:-//Etkinlikvarmi//Takvime Ekle//TR
BEGIN:VEVENT
UID:69e4db68288c3@etkinlikvarmi.com
DTSTAMP:20260419T134056Z
DTSTART:20260422T203000
DTEND:20260422T223000
SUMMARY:Rewşan
LOCATION:Atatürk KM - Aspendos Salonu, Antalya
DESCRIPTION:Rewşan etkinliği Antalya şehrinde Atatürk KM - Aspendos Salonu mekanında.
END:VEVENT
END:VCALENDAR
