
BEGIN:VCALENDAR
VERSION:2.0
PRODID:-//Etkinlikvarmi//Takvime Ekle//TR
BEGIN:VEVENT
UID:69e4db6827496@etkinlikvarmi.com
DTSTAMP:20260419T134056Z
DTSTART:20260423T213000
DTEND:20260423T233000
SUMMARY:The Away Days
LOCATION:IF Performance Hall, Ankara
DESCRIPTION:The Away Days etkinliği Ankara şehrinde IF Performance Hall mekanında.
END:VEVENT
END:VCALENDAR
