
BEGIN:VCALENDAR
VERSION:2.0
PRODID:-//Etkinlikvarmi//Takvime Ekle//TR
BEGIN:VEVENT
UID:69e4db6826002@etkinlikvarmi.com
DTSTAMP:20260419T134056Z
DTSTART:20260425T130000
DTEND:20260425T150000
SUMMARY:Seksen Günde Dünya Turu
LOCATION:Leyla Gencer Opera ve Sanat Merkezi, İstanbul
DESCRIPTION:Seksen Günde Dünya Turu etkinliği İstanbul şehrinde Leyla Gencer Opera ve Sanat Merkezi mekanında.
END:VEVENT
END:VCALENDAR
