
BEGIN:VCALENDAR
VERSION:2.0
PRODID:-//Etkinlikvarmi//Takvime Ekle//TR
BEGIN:VEVENT
UID:69e505fc3befe@etkinlikvarmi.com
DTSTAMP:20260419T164236Z
DTSTART:20260424T220000
DTEND:20260425T000000
SUMMARY:İlyas Yalçıntaş
LOCATION:Hayal Kahvesi Güre, Balıkesir
DESCRIPTION:İlyas Yalçıntaş etkinliği Balıkesir şehrinde Hayal Kahvesi Güre mekanında.
END:VEVENT
END:VCALENDAR
