
BEGIN:VCALENDAR
VERSION:2.0
PRODID:-//Etkinlikvarmi//Takvime Ekle//TR
BEGIN:VEVENT
UID:69e9ef4177223@etkinlikvarmi.com
DTSTAMP:20260423T100657Z
DTSTART:20260424T210000
DTEND:20260424T230000
SUMMARY:Linet
LOCATION:Jolly Joker Atakent Tema, İstanbul
DESCRIPTION:Linet etkinliği İstanbul şehrinde Jolly Joker Atakent Tema mekanında.
END:VEVENT
END:VCALENDAR
