
BEGIN:VCALENDAR
VERSION:2.0
PRODID:-//Etkinlikvarmi//Takvime Ekle//TR
BEGIN:VEVENT
UID:69e4d8f2e6447@etkinlikvarmi.com
DTSTAMP:20260419T133026Z
DTSTART:20260426T140000
DTEND:20260426T160000
SUMMARY:Mitolojik Hikayeler - Neşeli Pazarlar
LOCATION:ENKA Oditoryumu , İstanbul
DESCRIPTION:Mitolojik Hikayeler - Neşeli Pazarlar etkinliği İstanbul şehrinde ENKA Oditoryumu  mekanında.
END:VEVENT
END:VCALENDAR
