
BEGIN:VCALENDAR
VERSION:2.0
PRODID:-//Etkinlikvarmi//Takvime Ekle//TR
BEGIN:VEVENT
UID:69e4c4d1107a2@etkinlikvarmi.com
DTSTAMP:20260419T120433Z
DTSTART:20260426T130000
DTEND:20260426T150000
SUMMARY:Charlie'nin Çikolata Fabrikasında
LOCATION:OKM Afife Jale Sahnesi, İstanbul
DESCRIPTION:Charlie'nin Çikolata Fabrikasında etkinliği İstanbul şehrinde OKM Afife Jale Sahnesi mekanında.
END:VEVENT
END:VCALENDAR
