
BEGIN:VCALENDAR
VERSION:2.0
PRODID:-//Etkinlikvarmi//Takvime Ekle//TR
BEGIN:VEVENT
UID:69e4d6a95bb33@etkinlikvarmi.com
DTSTAMP:20260419T132041Z
DTSTART:20260421T170000
DTEND:20260421T190000
SUMMARY:Sana Gül Bahçesi Vadetmedim
LOCATION:Bakırköy Butik Sahne, İstanbul
DESCRIPTION:Sana Gül Bahçesi Vadetmedim etkinliği İstanbul şehrinde Bakırköy Butik Sahne mekanında.
END:VEVENT
END:VCALENDAR
