
BEGIN:VCALENDAR
VERSION:2.0
PRODID:-//Etkinlikvarmi//Takvime Ekle//TR
BEGIN:VEVENT
UID:69e4d6dd045f5@etkinlikvarmi.com
DTSTAMP:20260419T132133Z
DTSTART:20260421T160000
DTEND:20260421T180000
SUMMARY:Emma
LOCATION:Bakırköy Butik Sahne, İstanbul
DESCRIPTION:Emma etkinliği İstanbul şehrinde Bakırköy Butik Sahne mekanında.
END:VEVENT
END:VCALENDAR
