
BEGIN:VCALENDAR
VERSION:2.0
PRODID:-//Etkinlikvarmi//Takvime Ekle//TR
BEGIN:VEVENT
UID:69e4d6a95c9fb@etkinlikvarmi.com
DTSTAMP:20260419T132041Z
DTSTART:20260421T193000
DTEND:20260421T213000
SUMMARY:4.48 Psikoz
LOCATION:Bakırköy Butik Sahne, İstanbul
DESCRIPTION:4.48 Psikoz etkinliği İstanbul şehrinde Bakırköy Butik Sahne mekanında.
END:VEVENT
END:VCALENDAR
