
BEGIN:VCALENDAR
VERSION:2.0
PRODID:-//Etkinlikvarmi//Takvime Ekle//TR
BEGIN:VEVENT
UID:69e4daf80b05d@etkinlikvarmi.com
DTSTAMP:20260419T133904Z
DTSTART:20260510T130000
DTEND:20260510T150000
SUMMARY:Pinokyo
LOCATION:Akasya Kültür Sanat, İstanbul
DESCRIPTION:Pinokyo etkinliği İstanbul şehrinde Akasya Kültür Sanat mekanında.
END:VEVENT
END:VCALENDAR
