
BEGIN:VCALENDAR
VERSION:2.0
PRODID:-//Etkinlikvarmi//Takvime Ekle//TR
BEGIN:VEVENT
UID:69e4db265eb95@etkinlikvarmi.com
DTSTAMP:20260419T133950Z
DTSTART:20260426T130000
DTEND:20260426T150000
SUMMARY:Pinokyo
LOCATION:DasDas İstinyePark, İstanbul
DESCRIPTION:Pinokyo etkinliği İstanbul şehrinde DasDas İstinyePark mekanında.
END:VEVENT
END:VCALENDAR
