
BEGIN:VCALENDAR
VERSION:2.0
PRODID:-//Etkinlikvarmi//Takvime Ekle//TR
BEGIN:VEVENT
UID:69e4db6826626@etkinlikvarmi.com
DTSTAMP:20260419T134056Z
DTSTART:20260425T130000
DTEND:20260425T150000
SUMMARY:Sihirli Kütüphane
LOCATION:Watergarden Performans Merkezi, İstanbul
DESCRIPTION:Sihirli Kütüphane etkinliği İstanbul şehrinde Watergarden Performans Merkezi mekanında.
END:VEVENT
END:VCALENDAR
