
BEGIN:VCALENDAR
VERSION:2.0
PRODID:-//Etkinlikvarmi//Takvime Ekle//TR
BEGIN:VEVENT
UID:69e89be6dd60a@etkinlikvarmi.com
DTSTAMP:20260422T095902Z
DTSTART:20260424T210000
DTEND:20260424T230000
SUMMARY:Crossover Talks - Sahnede
LOCATION:Kadıköy Sineması Salon 1, İstanbul
DESCRIPTION:Crossover Talks - Sahnede etkinliği İstanbul şehrinde Kadıköy Sineması Salon 1 mekanında.
END:VEVENT
END:VCALENDAR
