
BEGIN:VCALENDAR
VERSION:2.0
PRODID:-//Etkinlikvarmi//Takvime Ekle//TR
BEGIN:VEVENT
UID:69e4db74eff68@etkinlikvarmi.com
DTSTAMP:20260419T134108Z
DTSTART:20260421T210000
DTEND:20260421T230000
SUMMARY:Emir Çağılcı
LOCATION:The Wall Saloon &amp; Performance, İstanbul
DESCRIPTION:Emir Çağılcı etkinliği İstanbul şehrinde The Wall Saloon &amp; Performance mekanında.
END:VEVENT
END:VCALENDAR
