
BEGIN:VCALENDAR
VERSION:2.0
PRODID:-//Etkinlikvarmi//Takvime Ekle//TR
BEGIN:VEVENT
UID:69e4db74efb7f@etkinlikvarmi.com
DTSTAMP:20260419T134108Z
DTSTART:20260428T214500
DTEND:20260428T234500
SUMMARY:The Away Days
LOCATION:Holly Stone Denizli, Denizli
DESCRIPTION:The Away Days etkinliği Denizli şehrinde Holly Stone Denizli mekanında.
END:VEVENT
END:VCALENDAR
