
BEGIN:VCALENDAR
VERSION:2.0
PRODID:-//Etkinlikvarmi//Takvime Ekle//TR
BEGIN:VEVENT
UID:69e4d6dcd0156@etkinlikvarmi.com
DTSTAMP:20260419T132132Z
DTSTART:20260426T150000
DTEND:20260426T170000
SUMMARY:Dip Deniz Kasabası
LOCATION:Beylikdüzü AKSM , İstanbul
DESCRIPTION:Dip Deniz Kasabası etkinliği İstanbul şehrinde Beylikdüzü AKSM  mekanında.
END:VEVENT
END:VCALENDAR
