
BEGIN:VCALENDAR
VERSION:2.0
PRODID:-//Etkinlikvarmi//Takvime Ekle//TR
BEGIN:VEVENT
UID:69e4c4f6a9e2d@etkinlikvarmi.com
DTSTAMP:20260419T120510Z
DTSTART:20260426T130000
DTEND:20260426T150000
SUMMARY:Ceviz Adam Müzikali
LOCATION:Avlu Kongre ve Kültür M. - Ertuğrul, Balıkesir
DESCRIPTION:Ceviz Adam Müzikali etkinliği Balıkesir şehrinde Avlu Kongre ve Kültür M. - Ertuğrul mekanında.
END:VEVENT
END:VCALENDAR
