
BEGIN:VCALENDAR
VERSION:2.0
PRODID:-//Etkinlikvarmi//Takvime Ekle//TR
BEGIN:VEVENT
UID:69e4d6dccf295@etkinlikvarmi.com
DTSTAMP:20260419T132132Z
DTSTART:20260423T140000
DTEND:20260423T160000
SUMMARY:Önüm Arkam Duygularım Sobe
LOCATION:Paribu Art - Ana Sahne, İstanbul
DESCRIPTION:Önüm Arkam Duygularım Sobe etkinliği İstanbul şehrinde Paribu Art - Ana Sahne mekanında.
END:VEVENT
END:VCALENDAR
