
BEGIN:VCALENDAR
VERSION:2.0
PRODID:-//Etkinlikvarmi//Takvime Ekle//TR
BEGIN:VEVENT
UID:69e4db74ef4a7@etkinlikvarmi.com
DTSTAMP:20260419T134108Z
DTSTART:20260422T210000
DTEND:20260422T230000
SUMMARY:Buray
LOCATION:Bolu Hampton by Hilton, Bolu
DESCRIPTION:Buray etkinliği Bolu şehrinde Bolu Hampton by Hilton mekanında.
END:VEVENT
END:VCALENDAR
