
BEGIN:VCALENDAR
VERSION:2.0
PRODID:-//Etkinlikvarmi//Takvime Ekle//TR
BEGIN:VEVENT
UID:69e4c4d77f017@etkinlikvarmi.com
DTSTAMP:20260419T120439Z
DTSTART:20260419T190000
DTEND:20260419T210000
SUMMARY:Dolu Kadehi Ters Tut
LOCATION:JJ Arena Ataşehir, İstanbul
DESCRIPTION:Dolu Kadehi Ters Tut etkinliği İstanbul şehrinde JJ Arena Ataşehir mekanında.
END:VEVENT
END:VCALENDAR
