
BEGIN:VCALENDAR
VERSION:2.0
PRODID:-//Etkinlikvarmi//Takvime Ekle//TR
BEGIN:VEVENT
UID:69e4c29161916@etkinlikvarmi.com
DTSTAMP:20260419T115457Z
DTSTART:20260419T180000
DTEND:20260419T200000
SUMMARY:Cüneyt Nergiz - Stand Up
LOCATION:Babylon, İstanbul
DESCRIPTION:Cüneyt Nergiz - Stand Up etkinliği İstanbul şehrinde Babylon mekanında.
END:VEVENT
END:VCALENDAR
