
BEGIN:VCALENDAR
VERSION:2.0
PRODID:-//Etkinlikvarmi//Takvime Ekle//TR
BEGIN:VEVENT
UID:69e4c4d13eb19@etkinlikvarmi.com
DTSTAMP:20260419T120433Z
DTSTART:20260502T140000
DTEND:20260502T160000
SUMMARY:Susam Sokağı Kurabiye Operasyonu
LOCATION:Trump Sahne, İstanbul
DESCRIPTION:Susam Sokağı Kurabiye Operasyonu etkinliği İstanbul şehrinde Trump Sahne mekanında.
END:VEVENT
END:VCALENDAR
