
BEGIN:VCALENDAR
VERSION:2.0
PRODID:-//Etkinlikvarmi//Takvime Ekle//TR
BEGIN:VEVENT
UID:69e4d93b4745e@etkinlikvarmi.com
DTSTAMP:20260419T133139Z
DTSTART:20260502T130000
DTEND:20260502T150000
SUMMARY:Oz Büyücüsü Müzikali
LOCATION:Malatya KKM Kemal Sunal Salonu, Malatya
DESCRIPTION:Oz Büyücüsü Müzikali etkinliği Malatya şehrinde Malatya KKM Kemal Sunal Salonu mekanında.
END:VEVENT
END:VCALENDAR
