
BEGIN:VCALENDAR
VERSION:2.0
PRODID:-//Etkinlikvarmi//Takvime Ekle//TR
BEGIN:VEVENT
UID:69e500ccccb10@etkinlikvarmi.com
DTSTAMP:20260419T162028Z
DTSTART:20260501T220000
DTEND:20260502T000000
SUMMARY:Ari Barokas
LOCATION:SoldOut Performance Hall, İzmir
DESCRIPTION:Ari Barokas etkinliği İzmir şehrinde SoldOut Performance Hall mekanında.
END:VEVENT
END:VCALENDAR
