
BEGIN:VCALENDAR
VERSION:2.0
PRODID:-//Etkinlikvarmi//Takvime Ekle//TR
BEGIN:VEVENT
UID:69e4d90705243@etkinlikvarmi.com
DTSTAMP:20260419T133047Z
DTSTART:20260503T130000
DTEND:20260503T150000
SUMMARY:Oz Büyücüsü Müzikali
LOCATION:Adıyaman TPAO Kültür Merkezi, Adıyaman
DESCRIPTION:Oz Büyücüsü Müzikali etkinliği Adıyaman şehrinde Adıyaman TPAO Kültür Merkezi mekanında.
END:VEVENT
END:VCALENDAR
