
BEGIN:VCALENDAR
VERSION:2.0
PRODID:-//Etkinlikvarmi//Takvime Ekle//TR
BEGIN:VEVENT
UID:69e4db265f0e3@etkinlikvarmi.com
DTSTAMP:20260419T133950Z
DTSTART:20260503T130000
DTEND:20260503T150000
SUMMARY:Korkusuz Salyangoz
LOCATION:Akatlar Kültür Merkezi, İstanbul
DESCRIPTION:Korkusuz Salyangoz etkinliği İstanbul şehrinde Akatlar Kültür Merkezi mekanında.
END:VEVENT
END:VCALENDAR
