
BEGIN:VCALENDAR
VERSION:2.0
PRODID:-//Etkinlikvarmi//Takvime Ekle//TR
BEGIN:VEVENT
UID:69e506250d13f@etkinlikvarmi.com
DTSTAMP:20260419T164317Z
DTSTART:20260502T220000
DTEND:20260503T000000
SUMMARY:Ozbi Live Tour 2026
LOCATION:Dorock XL, İstanbul
DESCRIPTION:Ozbi Live Tour 2026 etkinliği İstanbul şehrinde Dorock XL mekanında.
END:VEVENT
END:VCALENDAR
