
BEGIN:VCALENDAR
VERSION:2.0
PRODID:-//Etkinlikvarmi//Takvime Ekle//TR
BEGIN:VEVENT
UID:69e9ef40e0581@etkinlikvarmi.com
DTSTAMP:20260423T100656Z
DTSTART:20260502T210000
DTEND:20260502T230000
SUMMARY:Linet
LOCATION:Jolly Joker Bursa, Bursa
DESCRIPTION:Linet etkinliği Bursa şehrinde Jolly Joker Bursa mekanında.
END:VEVENT
END:VCALENDAR
