
BEGIN:VCALENDAR
VERSION:2.0
PRODID:-//Etkinlikvarmi//Takvime Ekle//TR
BEGIN:VEVENT
UID:69e4db265e950@etkinlikvarmi.com
DTSTAMP:20260419T133950Z
DTSTART:20260425T130000
DTEND:20260425T150000
SUMMARY:Pamuk Prenses ve Yedi Cüceler
LOCATION:Akatlar Kültür Merkezi, İstanbul
DESCRIPTION:Pamuk Prenses ve Yedi Cüceler etkinliği İstanbul şehrinde Akatlar Kültür Merkezi mekanında.
END:VEVENT
END:VCALENDAR
